BEGIN:VCALENDAR
VERSION:2.0
PRODID:-//BVHilversum - ECPv6.15.20//NONSGML v1.0//EN
CALSCALE:GREGORIAN
METHOD:PUBLISH
X-ORIGINAL-URL:https://bvhilversum.nl
X-WR-CALDESC:Evenementen voor BVHilversum
REFRESH-INTERVAL;VALUE=DURATION:PT1H
X-Robots-Tag:noindex
X-PUBLISHED-TTL:PT1H
BEGIN:VTIMEZONE
TZID:UTC
BEGIN:STANDARD
TZOFFSETFROM:+0000
TZOFFSETTO:+0000
TZNAME:UTC
DTSTART:20250101T000000
END:STANDARD
END:VTIMEZONE
BEGIN:VEVENT
DTSTART;TZID=UTC:20260115T160000
DTEND;TZID=UTC:20260115T180000
DTSTAMP:20260420T170055
CREATED:20251217T113637Z
LAST-MODIFIED:20260109T090034Z
UID:8301-1768492800-1768500000@bvhilversum.nl
SUMMARY:Nieuwjaarsborrel in Café DUDOK
DESCRIPTION:Nieuwjaarsborrel in Café DUDOK\nDonderdag 15 januari staan we samen stil bij 2025: een jaar vol ontmoeting\, samenwerking en ondernemerschap\, met verbinding als rode draad. En we proosten hoopvol op wat het nieuwe jaar ons gaat brengen. \n  \nJe bent vanaf 16.00 uur van harte welkom in café Dudok Hilversum. We trappen de middag feestelijk af met een glas bubbels en tot 18.00 uur is er volop gelegenheid om bij te praten onder het genot van een drankje en heerlijke borrelhapjes. \n  \nGoed om te weten \n\nLeden en niet-leden zijn van harte welkom. Aan niet leden vragen we een kleine vergoeding van €12\,10 (inclusief btw).\nAanmelden kan tot dinsdag 12 januari via het formulier hieronder.\nBen je onverwacht verhinderd\, meld je dan even af.\n\n  \nZien we je op donderdag 15 januari vanaf 16.00 uur in Café DUDOK\, Larenseweg 1A\, 1221 CH Hilversum? \n  \nHartelijke groet\,BVHilversum \nAanmelden voor niet leden: \n\n                                (niet-leden) Diner en start Tafels van Vijf (€ 60\,50)\n                          \n                    Bedrag \n                        *\n                        € \n                         \n                        \n                    \n                    \n                   \n        \n            \n                                        \n                                             \n                                             \n                                            iDEAL | Wero\n                                        \n                                     \n                            Hierbij geef ik toestemming om het terugkerende bedrag periodiek van mijn rekening te incasseren.\n                         \n                    Totaal\n                    € \n                  Afrekenen\nAanmelden voor leden: \nLocatie: \n			 \nVoeg toe aan je agenda: \n\n	\n	Toevoegen aan kalender	\n		\n	\n \n\n\n	Google Calendar\n\n\n	iCalendar\n\n\n	Outlook 365\n\n\n	Outlook Live
URL:https://bvhilversum.nl/evenement/nieuwjaarsborrel-in-cafe-dudok/
LOCATION:Café Dudok\, Larenseweg 1A\, Hilversum\, 1221 CH\, Netherlands
ATTACH;FMTTYPE=image/jpeg:https://bvhilversum.nl/wp-content/uploads/2025/12/Cafe_Dudok-1.jpg
END:VEVENT
END:VCALENDAR