BEGIN:VCALENDAR
VERSION:2.0
PRODID:-//BVHilversum - ECPv6.15.20//NONSGML v1.0//EN
CALSCALE:GREGORIAN
METHOD:PUBLISH
X-WR-CALNAME:BVHilversum
X-ORIGINAL-URL:https://bvhilversum.nl
X-WR-CALDESC:Evenementen voor BVHilversum
REFRESH-INTERVAL;VALUE=DURATION:PT1H
X-Robots-Tag:noindex
X-PUBLISHED-TTL:PT1H
BEGIN:VTIMEZONE
TZID:UTC
BEGIN:STANDARD
TZOFFSETFROM:+0000
TZOFFSETTO:+0000
TZNAME:UTC
DTSTART:20240101T000000
END:STANDARD
END:VTIMEZONE
BEGIN:VEVENT
DTSTART;VALUE=DATE:20250909
DTEND;VALUE=DATE:20250910
DTSTAMP:20260420T234247
CREATED:20250128T182941Z
LAST-MODIFIED:20250911T182150Z
UID:7778-1757376000-1757462399@bvhilversum.nl
SUMMARY:Hoe was jouw zomer?
DESCRIPTION:Hoe was jouw zomer?\nDe zomer is een tijd van vakantie\, maar misschien ook wel van nieuwe ondernemerskansen\, ontmoetingen en ervaringen.\nWij nodigen je graag uit om jouw zomerverhalen te delen tijdens de netwerkwandeling\, borrel en ALV van BVHilversum. \n📅 Datum: Dinsdag 9 september\, 17.30 uur\n📍 Locatie: Ivy Office\, Gijsbrecht van Amstelstraat 213\, 1214 BA Hilversum \nProgramma: \n\n17.30 – 18.30 uur| Stadswandeling\nStartpunt is Ivy Office\, Gijsbrecht van Amstelstraat 213. Onder leiding van een gids van het Dudok Architectuur Centrum maken we een leuke en leerzame stadswandeling door Hilversum Zuid. Een actief en informatief begin om elkaar te ontmoeten en bij te praten.\n18.30 – 19.00 uur| Soep & broodje\nVoor de liefhebbers staat een lichte maaltijd klaar.\n19.00 uur| Algemene Ledenvergadering BVHilversum\nAansluitend| Introductie door Ivy Office\nTot slot| Borrel & netwerken\n20.30| Einde\n\n  \nGoed om te weten: \n\nAanmelden kan tot woensdag 3 september\nBen je onverwacht verhinderd? Laat het ons zo snel mogelijk weten.\nNiet-leden die kennis willen maken met andere leden van BVHilversum zijn ook van harte welkom. Je betaalt dan een bijdrage van € 22\,00 inclusief btw om je aanmelding definitief te maken. Wanneer je die middag besluit lid te worden\, brengen we dit bedrag in mindering op je lidmaatschap van € 225\,-.\nSchrijf je nu in via onderstaande formulier. En als je niet van wandelen houdt\, kun je ook later aansluiten. Graag even aangeven vanaf wanneer wij op je aanwezigheid mogen rekenen.\n\n\nTot ziens op 9 september bij Ivy Office! \nMet ondernemende groet\,\nTeam BVHilversum \nAanmelden voor niet-leden: \n\n                                (niet-leden) Diner en start Tafels van Vijf (€ 60\,50)\n                          \n                    Bedrag \n                        *\n                        € \n                         \n                        \n                    \n                    \n                   \n        \n            \n                                        \n                                             \n                                             \n                                            iDEAL | Wero\n                                        \n                                     \n                            Hierbij geef ik toestemming om het terugkerende bedrag periodiek van mijn rekening te incasseren.\n                         \n                    Totaal\n                    € \n                  Afrekenen\nAanmelden voor leden: \n\n\n\nToevoegen aan kalender \n \n\nGoogle Calendar\niCalendar\nOutlook 365\nOutlook Live
URL:https://bvhilversum.nl/evenement/nazomerwandeling/
ATTACH;FMTTYPE=image/jpeg:https://bvhilversum.nl/wp-content/uploads/2025/08/Borrelen-IvyOffice.jpg
END:VEVENT
END:VCALENDAR