BEGIN:VCALENDAR
VERSION:2.0
PRODID:-//BVHilversum - ECPv6.15.20//NONSGML v1.0//EN
CALSCALE:GREGORIAN
METHOD:PUBLISH
X-ORIGINAL-URL:https://bvhilversum.nl
X-WR-CALDESC:Evenementen voor BVHilversum
REFRESH-INTERVAL;VALUE=DURATION:PT1H
X-Robots-Tag:noindex
X-PUBLISHED-TTL:PT1H
BEGIN:VTIMEZONE
TZID:UTC
BEGIN:STANDARD
TZOFFSETFROM:+0000
TZOFFSETTO:+0000
TZNAME:UTC
DTSTART:20240101T000000
END:STANDARD
END:VTIMEZONE
BEGIN:VEVENT
DTSTART;TZID=UTC:20250624T163000
DTEND;TZID=UTC:20250624T180000
DTSTAMP:20260421T050417
CREATED:20250128T181628Z
LAST-MODIFIED:20250623T064828Z
UID:7773-1750782600-1750788000@bvhilversum.nl
SUMMARY:Kick-off Verkiezing Hilversumse Onderneming van het Jaar 2025 & Zomerborrel
DESCRIPTION:Kick-off Verkiezing Hilversumse Onderneming van het Jaar 2025\, ALV & Zomerborrel\nOok dit jaar is er weer een Verkiezing van de Hilversumse Onderneming van het Jaar. We starten de Verkiezing met de Kick-off op dinsdag 24 juni om 16.30 uur. \nWe nodigen je voor dit evenement graag uit bij de winnaar van 2024; Nori and Rice aan de Herenstraat 20 te Hilversum. Daar zetten we niet alleen de finalisten en winnaar van de vorige editie nog even in het zonnetje\, maar omdat we er even iets langer uit zijn geweest\, nemen we ook alle winnaars van de afgelopen edities door. \nDit jaar zal de winnaar van de Verkiezing van de Hilversumse Onderneming op 21 november\, na de nominatie- en stemronde\, bekend gemaakt worden. \nDe Kick-off wordt gepresenteerd door de Hilversumse cabaretier Robbert Jan Proos\, die met zijn energieke persoonlijkheid en improvisatietalent de lachers op zijn hand zal weten te krijgen. \nNa de feestelijke aftrap is er tot 18.00 uur de tijd om bij te praten en te netwerken. Gratis toegankelijk voor leden en genodigden van BVHilversum. \nWe kijken er naar uit en zien je graag op dinsdag 24 juni om 16.30 uur uur bij Nori and Rice aan de Herenstraat 20 in Hilversum. \nAanmelden voor leden en niet leden: \nKalender & Locatie: \n\n\nToevoegen aan kalender \n  \n\nGoogle Calendar\niCalendar\nOutlook 365\nOutlook Live
URL:https://bvhilversum.nl/evenement/zomerborrel/
LOCATION:Nori and Rice\, Herenstraat 20\, Hilversum\, 1211 CB
ATTACH;FMTTYPE=image/jpeg:https://bvhilversum.nl/wp-content/uploads/2024/01/NoriRice_1360x680px.jpg
END:VEVENT
END:VCALENDAR