BEGIN:VCALENDAR
VERSION:2.0
PRODID:-//BVHilversum - ECPv6.15.20//NONSGML v1.0//EN
CALSCALE:GREGORIAN
METHOD:PUBLISH
X-WR-CALNAME:BVHilversum
X-ORIGINAL-URL:https://bvhilversum.nl
X-WR-CALDESC:Evenementen voor BVHilversum
REFRESH-INTERVAL;VALUE=DURATION:PT1H
X-Robots-Tag:noindex
X-PUBLISHED-TTL:PT1H
BEGIN:VTIMEZONE
TZID:UTC
BEGIN:STANDARD
TZOFFSETFROM:+0000
TZOFFSETTO:+0000
TZNAME:UTC
DTSTART:20240101T000000
END:STANDARD
END:VTIMEZONE
BEGIN:VEVENT
DTSTART;TZID=UTC:20250114T160000
DTEND;TZID=UTC:20250114T180000
DTSTAMP:20260423T112705
CREATED:20250106T133253Z
LAST-MODIFIED:20250826T153513Z
UID:7754-1736870400-1736877600@bvhilversum.nl
SUMMARY:Winterwandeling met Glühwein
DESCRIPTION:Dit evenement is afgelopen.		 \nWinterwandeling met Glühwein\n\nAllereerst de beste wensen voor 2025! Dat het maar een mooi jaar mag worden vol nieuwe kansen en groei. \nOok dit jaar gaan we weer wandelen door het natuurschoon dat Hilversum ons biedt. Het is de afgelopen jaren gebleken dat er tijdens de wandeling mooie gesprekken en contacten ontstaan. Introducees zijn welkom. Loop je mee?  \nWe starten om 16.00 uur vanaf Theehuis ’t Bluk en na afloop staat hier glühwein klaar. \nGoed om te weten• Leden én niet-leden zijn van harte welkom. Aan niet-leden vragen we een kleine vergoeding van € 12\,10.• Aanmelden kan tot maandag 13 januari.• Ben je onverwacht verhinderd\, dan wordt het gewaardeerd dat je je zo spoedig mogelijk afmeldt. \nWe kijken er naar uit en zien je graag. \nSAVE THE DATEDe volgende bijeenkomst staat al gepland\, namelijk de Kick-off van de ‘Tafels van Vijf’ op dinsdag 11 februari. Meer info volgt.
URL:https://bvhilversum.nl/evenement/winterwandeling-met-gluhwein-2/
LOCATION:Theehuis ‘t Bluk\, Zuiderheide 2\, Laren\, 1251 SE
ATTACH;FMTTYPE=image/jpeg:https://bvhilversum.nl/wp-content/uploads/2024/12/Winter_wandeling-1.jpg
END:VEVENT
END:VCALENDAR