BEGIN:VCALENDAR
VERSION:2.0
PRODID:-//BVHilversum - ECPv6.15.20//NONSGML v1.0//EN
CALSCALE:GREGORIAN
METHOD:PUBLISH
X-ORIGINAL-URL:https://bvhilversum.nl
X-WR-CALDESC:Evenementen voor BVHilversum
REFRESH-INTERVAL;VALUE=DURATION:PT1H
X-Robots-Tag:noindex
X-PUBLISHED-TTL:PT1H
BEGIN:VTIMEZONE
TZID:UTC
BEGIN:STANDARD
TZOFFSETFROM:+0000
TZOFFSETTO:+0000
TZNAME:UTC
DTSTART:20240101T000000
END:STANDARD
END:VTIMEZONE
BEGIN:VEVENT
DTSTART;TZID=UTC:20251014T190000
DTEND;TZID=UTC:20251014T203000
DTSTAMP:20260420T234802
CREATED:20250926T064820Z
LAST-MODIFIED:20251027T102534Z
UID:8157-1760468400-1760473800@bvhilversum.nl
SUMMARY:Bekendmaking top 10 Verkiezing Hilversumse Onderneming 2025
DESCRIPTION:Bekendmaking van de top 10 van de Verkiezing Hilversumse Onderneming van het Jaar 2025\nDe verkiezing van de Hilversumse Onderneming van het Jaar 2025 is in volle gang. Het nomineren is afgelopen; de nominaties zijn bekend. Tot en met woensdag 5 november kun je stemmen op jouw drie favoriete ondernemingen. \n  \nVanaf 1 oktober kan er gestemd worden. Voor de genomineerde bedrijven komt het daarna neer op strategie: hoe kom je onder de aandacht van het grote publiek? Een uitgelezen moment om je bestaande klanten te contacten en je bedrijf extra zichtbaarheid te geven. Ook als je niet bij de eerste drie eindigt\, geeft dit de nodige exposure. \nDinsdag 14 oktober maken we de eerste tussenstand bekend tijdens onze netwerkbijeenkomst van bij @AllArt. We nodigen je graag uit daarbij aanwezig te zijn. \nNaast de bekendmaking van de top 10 door de Hilversumse cabaretier Robbert Jan Proos is er volop mogelijkheid om te netwerken. \n\nDatum: Dinsdag 14 oktober\, 19.00 uur\nLocatie: @AllArt\, Korte Noorderweg 22\, 1221 NB  Hilversum \n\nProgramma \n\n 19.00 uur  | Inloop\n19.15 uur  | Bekendmaking tussenstand door Robbert Jan Proos\n19.45 uur  | Netwerkborrel\n20.30 uur  | Einde\n\n\nGoed om te weten: \n\nAanmelden kan tot vrijdag 10 oktober\nBen je onverwacht verhinderd\, dan wordt het gewaardeerd dat je je z.s.m. afmeldt.\nNiet-leden die kennis willen maken met BVHilversum-leden zijn van harte welkom. Zij betalen een bijdrage van €15\,00 incl. btw. Wanneer je die middag besluit lid te worden wordt dit bedrag in mindering gebracht op je lidmaatschap van €225\,-.\nJe bent aangemeld op het moment dat de betaling van € 15\,00 binnen is.\nWacht niet en schrijf je enthousiast in.\n\nZien we jou op 14 oktober bij @AllArt om samen te proosten op je mede-ondernemers? \nAanmelden voor niet leden: \n\n                                (niet-leden) Diner en start Tafels van Vijf (€ 60\,50)\n                          \n                    Bedrag \n                        *\n                        € \n                         \n                        \n                    \n                    \n                   \n        \n            \n                                        \n                                             \n                                             \n                                            iDEAL | Wero\n                                        \n                                     \n                            Hierbij geef ik toestemming om het terugkerende bedrag periodiek van mijn rekening te incasseren.\n                         \n                    Totaal\n                    € \n                  Afrekenen\nAanmelden voor leden: \nLocatie: \n \nVoeg toe aan je agenda: \n\n\nToevoegen aan kalender \n \n\nGoogle Calendar\niCalendar\nOutlook 365\nOutlook Live
URL:https://bvhilversum.nl/evenement/bekendmaking-nominaties-hilversumse-onderneming-2025/
LOCATION:@AllArt\, Korte Noorderweg 22\, Hilversum\, 1221 NB
ATTACH;FMTTYPE=image/jpeg:https://bvhilversum.nl/wp-content/uploads/2025/09/Kerstborrel-@AllArt-1100x420px.jpg
END:VEVENT
BEGIN:VEVENT
DTSTART;TZID=UTC:20251121T190000
DTEND;TZID=UTC:20251121T210000
DTSTAMP:20260420T234803
CREATED:20251027T093154Z
LAST-MODIFIED:20251027T103114Z
UID:8206-1763751600-1763758800@bvhilversum.nl
SUMMARY:En de winnaars zijn…
DESCRIPTION:En de winnaars zijn…\nDe verkiezing van de Hilversumse Onderneming van het Jaar 2025 is in volle gang. Heb je al gestemd op www.hilversumseondernemingvanhetjaar.nl? Het kan nog tot en met 5 november. \n  \nVrijdag 21 november\, de Dag van de Ondernemer\, maken we de winnaars bekend van de verkiezing Hilversumse Onderneming van het Jaar 2025. Dit gebeurt tijdens een feestelijke bijeenkomst in Heuvellaan Hilversum\, het voormalige MCO. \nJe bent hierbij van harte welkom en we hopen dat je erbij kan zijn. \nRobbert Jan Proos\, Hilversumse cabaretier\, verzorgt de presentatie van de avond. Uiteraard zorgen we voor een drankje na afloop en is voldoende tijd om na te praten. \n\nDatum:    Vrijdag 21 november\, 19.00 uur\nLocatie:  Heuvellaan Hilversum\, Heuvellaan 33\, 1217 JL Hilversum \n\nProgramma\n19.00 uur   |  Ontvangst met een feestelijk drankje\n19.15 uur   |  Aanvang programma door Robbert Jan Proos\n20.00 uur   |  Borrelen en napraten\n21.00 uur   |  Einde \n\nGoed om te weten:\n• Aanmelden voor de uitreiking kan tot 16 november\n• Ben je onverwacht verhinderd\, dan wordt het gewaardeerd dat je je even afmeldt.\n• De uitreiking is aansluitend op de Maatschappelijke Beursvloer. Op beursvloerhilversum.nl kun je je hiervoor nog aanmelden. \n\nBen jij erbij op 21 november in de Heuvellaan? Want dit wil je toch niet missen. \n  \nMet ondernemende groet\,\nhet team van BVHilversum \nAanmelden: \nLocatie: \n \nVoeg toe aan je agenda: \n\n\nToevoegen aan kalender \n  \n\nGoogle Calendar\niCalendar\nOutlook 365\nOutlook Live
URL:https://bvhilversum.nl/evenement/en-de-winnaars-zijn/
LOCATION:Heuvellaan Hilversum\, Heuvellaan 33\, Hilversum\, 1217 JL\, Netherlands
ATTACH;FMTTYPE=image/jpeg:https://bvhilversum.nl/wp-content/uploads/2025/10/Entree_Heuvellaan.jpg
END:VEVENT
BEGIN:VEVENT
DTSTART;TZID=UTC:20260115T160000
DTEND;TZID=UTC:20260115T180000
DTSTAMP:20260420T234803
CREATED:20251217T113637Z
LAST-MODIFIED:20260109T090034Z
UID:8301-1768492800-1768500000@bvhilversum.nl
SUMMARY:Nieuwjaarsborrel in Café DUDOK
DESCRIPTION:Nieuwjaarsborrel in Café DUDOK\nDonderdag 15 januari staan we samen stil bij 2025: een jaar vol ontmoeting\, samenwerking en ondernemerschap\, met verbinding als rode draad. En we proosten hoopvol op wat het nieuwe jaar ons gaat brengen. \n  \nJe bent vanaf 16.00 uur van harte welkom in café Dudok Hilversum. We trappen de middag feestelijk af met een glas bubbels en tot 18.00 uur is er volop gelegenheid om bij te praten onder het genot van een drankje en heerlijke borrelhapjes. \n  \nGoed om te weten \n\nLeden en niet-leden zijn van harte welkom. Aan niet leden vragen we een kleine vergoeding van €12\,10 (inclusief btw).\nAanmelden kan tot dinsdag 12 januari via het formulier hieronder.\nBen je onverwacht verhinderd\, meld je dan even af.\n\n  \nZien we je op donderdag 15 januari vanaf 16.00 uur in Café DUDOK\, Larenseweg 1A\, 1221 CH Hilversum? \n  \nHartelijke groet\,BVHilversum \nAanmelden voor niet leden: \n\n                                (niet-leden) Diner en start Tafels van Vijf (€ 60\,50)\n                          \n                    Bedrag \n                        *\n                        € \n                         \n                        \n                    \n                    \n                   \n        \n            \n                                        \n                                             \n                                             \n                                            iDEAL | Wero\n                                        \n                                     \n                            Hierbij geef ik toestemming om het terugkerende bedrag periodiek van mijn rekening te incasseren.\n                         \n                    Totaal\n                    € \n                  Afrekenen\nAanmelden voor leden: \nLocatie: \n			 \nVoeg toe aan je agenda: \n\n	\n	Toevoegen aan kalender	\n		\n	\n \n\n\n	Google Calendar\n\n\n	iCalendar\n\n\n	Outlook 365\n\n\n	Outlook Live
URL:https://bvhilversum.nl/evenement/nieuwjaarsborrel-in-cafe-dudok/
LOCATION:Café Dudok\, Larenseweg 1A\, Hilversum\, 1221 CH\, Netherlands
ATTACH;FMTTYPE=image/jpeg:https://bvhilversum.nl/wp-content/uploads/2025/12/Cafe_Dudok-1.jpg
END:VEVENT
BEGIN:VEVENT
DTSTART;TZID=UTC:20260210T163000
DTEND;TZID=UTC:20260210T173000
DTSTAMP:20260420T234803
CREATED:20260203T110206Z
LAST-MODIFIED:20260203T180035Z
UID:8354-1770741000-1770744600@bvhilversum.nl
SUMMARY:Goed nieuws: onze netwerkwandelingen zijn weer terug!
DESCRIPTION:Goed nieuws: onze netwerkwandelingen zijn weer terug! \nSave the date: dinsdag 10 februari\, 16.30 uur\, eetcafé ’t Pandje\nDeze vertrouwde en gezellige ontmoetingen zijn eerder bedacht en georganiseerd door Ester Tunissen en nu heeft Koosje de Beer de organisatie van haar overgenomen. Sommigen van jullie kennen Koosje misschien wel van andere events. Ze is dol op wandelen en zou het jammer vinden als deze mooie traditie zou verdwijnen. \n \nHet idee blijft hetzelfde: op een informele manier bijpraten\, ideeën uitwisselen en elkaar beter leren kennen. Al wandelend in de buitenlucht. \nWe verzamelen dinsdag 10 februari om 16.30 uur bij eetcafé ’t Pandje\, Mies Bouwman-boulevard 131. Maken samen een fijne wandeling en zijn daar rond 17.30 uur weer terug voor een gezellige borrel met een drankje en een borrelhapje. \nWandel je mee? Laat uiterlijk zondag 7 februari weten of je erbij bent\, dan geven we dit door aan ’t Pandje. Kun je niet meewandelen maar wel borrelen? Dat kan natuurlijk ook. Zet dat er dan wel even bij in je aanmelding. \nGeen lid? Ook dan ben je van harte welkom! We vragen je dan om een kleine bijdrage van € 10 (excl. btw). We wandelen over de natuurbrug\, dus je hond kan helaas niet mee. \nAanmelden voor niet-leden: \n\n                                (niet-leden) Diner en start Tafels van Vijf (€ 60\,50)\n                          \n                    Bedrag \n                        *\n                        € \n                         \n                        \n                    \n                    \n                   \n        \n            \n                                        \n                                             \n                                             \n                                            iDEAL | Wero\n                                        \n                                     \n                            Hierbij geef ik toestemming om het terugkerende bedrag periodiek van mijn rekening te incasseren.\n                         \n                    Totaal\n                    € \n                  Afrekenen\nAanmelden voor leden:
URL:https://bvhilversum.nl/evenement/goed-nieuws-de-netwerkwandelingen-van-bvhilversum-zijn-weer-terug/
LOCATION:‘t Pandje Hilversum\, Mies Bouwman-boulevard 131\, Hilversum\, 1217 DX\, Netherlands
ATTACH;FMTTYPE=image/jpeg:https://bvhilversum.nl/wp-content/uploads/2024/12/Wandeling_Westerheide_1350x675.jpg
END:VEVENT
BEGIN:VEVENT
DTSTART;TZID=UTC:20260324T193000
DTEND;TZID=UTC:20260324T220000
DTSTAMP:20260420T234804
CREATED:20260226T082805Z
LAST-MODIFIED:20260226T183718Z
UID:8389-1774380600-1774389600@bvhilversum.nl
SUMMARY:Rondleiding Raadhuis & tentoonstelling DAC & borrel
DESCRIPTION:Rondleiding Raadhuis & tentoonstelling DAC & borrel\nNa de nieuwjaarsborrel en de februari-wandeling staat dinsdag 24 maart het volgende evenement op een iconische plek in Hilversum op het programma: bij het Dudok Architectuur Centrum.\nProgramma \n• Rondleiding door het Raadhuis• Bezoek aan de tentoonstelling van het Dudok Architectuur Centrum• Aansluitend een gezellige borrel \nGoed om te weten• Leden én niet-leden zijn van harte welkom. Aan niet-leden vragen we een kleine vergoeding van € 20\,00 (exclusief btw)• Ben je onverwacht verhinderd\, dan wordt het gewaardeerd dat je je even afmeldt \n  \nEen mooie gelegenheid om elkaar weer te ontmoeten én samen inspiratie op te doen. \nAanmelden voor niet leden: \n\n                                (niet-leden) Diner en start Tafels van Vijf (€ 60\,50)\n                          \n                    Bedrag \n                        *\n                        € \n                         \n                        \n                    \n                    \n                   \n        \n            \n                                        \n                                             \n                                             \n                                            iDEAL | Wero\n                                        \n                                     \n                            Hierbij geef ik toestemming om het terugkerende bedrag periodiek van mijn rekening te incasseren.\n                         \n                    Totaal\n                    € \n                  Afrekenen\nAanmelden voor leden: \nLocatie: \n			 \nVoeg toe aan je agenda: \n\n	\n	Toevoegen aan kalender	\n		\n	\n \n\n\n	Google Calendar\n\n\n	iCalendar\n\n\n	Outlook 365\n\n\n	Outlook Live
URL:https://bvhilversum.nl/evenement/rondleiding-raadhuis-tentoonstelling-dac-borrel/
LOCATION:Dudok Architectuur Centrum\, Dudokpark 1\, Hilversum\, 1217 JE
ATTACH;FMTTYPE=image/jpeg:https://bvhilversum.nl/wp-content/uploads/2026/02/Dudok_met_raadhuis_1360x680px.jpg
END:VEVENT
BEGIN:VEVENT
DTSTART;TZID=UTC:20260410T170000
DTEND;TZID=UTC:20260410T183000
DTSTAMP:20260420T234804
CREATED:20260226T082926Z
LAST-MODIFIED:20260404T110039Z
UID:8392-1775840400-1775845800@bvhilversum.nl
SUMMARY:Netwerk-wandeling over de Westerheide
DESCRIPTION:Voorjaarswandeling over de Westerheide\nWe gaan weer naar buiten! Sluit je aan bij de netwerkwandeling op 10 april 🌿 \nDe paaseitjes zijn op\, de dagen worden langer en voordat Hemelvaart en Pinksteren onze agenda’s overnemen… is dit hét moment om even naar buiten te gaan. \nVrijdag 10 april\, 17.00 uur – eetcafé ’t Pandje \nTijd om je hoofd leeg te maken\, de benen te strekken en ondertussen bij te praten met andere ondernemers. Even weg van je bureau\, naar frisse lucht en goede gesprekken. \nZoals je gewend bent: starten we om 17.00 uur bij ’t Pandje (Mies Bouwmanboulevard 131)\, maken een ontspannen wandeling en rond 18.00 uur zijn we weer bij ‘t Pandje voor een gezellige borrel. 🍷 Trek je wandelschoenen aan en loop mee! \nLoop je mee?\nLaat uiterlijk woensdag 8 april weten of je erbij bent. Stuur deze keer een mailtje naar info@bvhilversum.nl \nAlleen borrelen mag natuurlijk ook – zet het even bij je aanmelding. 😉 \nNog geen lid? \nGeen probleem\, je bent welkom (bijdrage €10 excl. btw). Stuur een mailtje naar info@bvhilversum.nl\, waarin je je gegevens opneemt en met hoeveel mensen je meewandelt. \nAanmelden voor niet leden: \n\n                                (niet-leden) Diner en start Tafels van Vijf (€ 60\,50)\n                          \n                    Bedrag \n                        *\n                        € \n                         \n                        \n                    \n                    \n                   \n        \n            \n                                        \n                                             \n                                             \n                                            iDEAL | Wero\n                                        \n                                     \n                            Hierbij geef ik toestemming om het terugkerende bedrag periodiek van mijn rekening te incasseren.\n                         \n                    Totaal\n                    € \n                  Afrekenen\nAanmelden voor leden:
URL:https://bvhilversum.nl/evenement/wandeling/
ATTACH;FMTTYPE=image/jpeg:https://bvhilversum.nl/wp-content/uploads/2024/12/Wandeling_Westerheide_1350x675.jpg
END:VEVENT
BEGIN:VEVENT
DTSTART;TZID=UTC:20260507T170000
DTEND;TZID=UTC:20260507T210000
DTSTAMP:20260420T234805
CREATED:20260226T083028Z
LAST-MODIFIED:20260415T092236Z
UID:8394-1778173200-1778187600@bvhilversum.nl
SUMMARY:ALV & aftrap Tafels van Vijf
DESCRIPTION:Nieuwe ronde Tafels van Vijf\, diner & ALV\n  \nDe Tafels van Vijf krijgen ook dit jaar een vervolg. BVHilversum zoekt de verdieping: in een kleine groep leer je je mede-ondernemers beter kennen en waarvoor ze staan. Deze ontmoetingen gaan verder dan onze maandelijkse bijeenkomsten; de ervaring leert dat deelnemers aan de Tafels van Vijf ambassadeurs voor je onderneming zijn. \n  \nDonderdag 7 mei kun je kennismaken met de andere leden van de Tafels van Vijf. Onder het genot van een diner bij Ketelhuis aan de Werf ga je als ondernemers per tafel met elkaar in gesprek om te achterhalen wie deze ondernemers zijn. Om de successen – en als je wilt ook de zaken die minder naar wens gaan – te delen. Waarmee wil je geholpen worden? Wanneer moeten we aan je denken als we in contact zijn met mensen die een specifieke vraag hebben? \nDeze avond is bedoeld om te proeven wat het netwerk voor je kan betekenen. We nodigen leden én niet-leden van harte uit om mee te doen. \nBen je enthousiast\, schrijf je dan diezelfde avond nog in voor de Tafels van Vijf. En ben je nog geen lid\, verander dat direct. Dit is een eenvoudige voorwaarde om mee te kunnen doen. \n  \nWat is de Tafels van Vijf? \nAls Tafel van Vijf kom je elke maand bij elkaar. Iedere deelnemer organiseert een keer een bijeenkomst voor de andere vier tafelgenoten. Dat kan op je bedrijf\, maar je kunt ook een wandeling maken en daarna koffiedrinken. Dat is helemaal aan jullie. Doel is om elkaar echt te leren kennen. De ervaring leert dat dit gebeurt én dat de deelnemers ook echt enthousiast zijn. \n  \nVoorafgaand aan het diner wordt de Algemene Ledenvergadering (ALV) gehouden. Voor de ALV kun je de financiële jaarrekening opvragen bij Ruud Bochardt. Je hoeft niet per sé aanwezig te zijn op 7 mei om inzage te krijgen in de jaarrekening. \n  \nGoed om te weten• Aanmelden kan tot maandag 4 mei 12.00 uur.• Leden én niet-leden zijn van harte welkom.• Inloop vanaf 17.00 uur• De ALV begint om 17.10 uur \n  \nVoor leden:• Dit evenement is gratis.• Ben je onverwacht verhinderd\, dan wordt het gewaardeerd als je je van tevoren even afmeldt. \n  \nVoor niet-leden:• Niet-leden betalen voor dit evenement € 50 (excl. btw).• Je bent aangemeld op het moment dat de betaling binnen is. \n  \nZien we je donderdag 7 mei bij Ketelhuis aan de Werf\, aan de Mussenstraat 9 in Hilversum? \nAanmelden voor niet leden: \n\n                                (niet-leden) Diner en start Tafels van Vijf (€ 60\,50)\n                          \n                    Bedrag \n                        *\n                        € \n                         \n                        \n                    \n                    \n                   \n        \n            \n                                        \n                                             \n                                             \n                                            iDEAL | Wero\n                                        \n                                     \n                            Hierbij geef ik toestemming om het terugkerende bedrag periodiek van mijn rekening te incasseren.\n                         \n                    Totaal\n                    € \n                  Afrekenen\nAanmelden voor leden:
URL:https://bvhilversum.nl/evenement/alv-aftrap-tafels-van-vijf/
LOCATION:Lunch-restaurant ‘Ketelhuis aan de Werf’\, Mussenstraat 9\, Hilversum\, 1223 RB\, Netherlands
ATTACH;FMTTYPE=image/jpeg:https://bvhilversum.nl/wp-content/uploads/2024/12/Ketelhuis_16x9.jpg
END:VEVENT
BEGIN:VEVENT
DTSTART;TZID=UTC:20260604T170000
DTEND;TZID=UTC:20260604T183000
DTSTAMP:20260420T234805
CREATED:20260226T083206Z
LAST-MODIFIED:20260226T083206Z
UID:8396-1780592400-1780597800@bvhilversum.nl
SUMMARY:Netwerk-wandeling
DESCRIPTION:
URL:https://bvhilversum.nl/evenement/netwerk-wandeling/
END:VEVENT
BEGIN:VEVENT
DTSTART;TZID=UTC:20260707T193000
DTEND;TZID=UTC:20260707T220000
DTSTAMP:20260420T234805
CREATED:20260226T083604Z
LAST-MODIFIED:20260226T083604Z
UID:8399-1783452600-1783461600@bvhilversum.nl
SUMMARY:Kennissessie & borrel
DESCRIPTION:
URL:https://bvhilversum.nl/evenement/kennissessie-borrel/
LOCATION:Brasserie Wisseloord\, Catharina van Renneslaan 10\, Hilversum\, 1217 CX
END:VEVENT
BEGIN:VEVENT
DTSTART;TZID=UTC:20260908T080000
DTEND;TZID=UTC:20260908T170000
DTSTAMP:20260420T234805
CREATED:20260226T083708Z
LAST-MODIFIED:20260226T083708Z
UID:8402-1788854400-1788886800@bvhilversum.nl
SUMMARY:Workshops & borrel
DESCRIPTION:
URL:https://bvhilversum.nl/evenement/workshops-borrel/
END:VEVENT
BEGIN:VEVENT
DTSTART;TZID=UTC:20261006T163000
DTEND;TZID=UTC:20261006T180000
DTSTAMP:20260420T234805
CREATED:20260226T083819Z
LAST-MODIFIED:20260404T110019Z
UID:8404-1791304200-1791309600@bvhilversum.nl
SUMMARY:Netwerk-wandeling over de Westerheide
DESCRIPTION:
URL:https://bvhilversum.nl/evenement/netwerk-wandeling-2/
END:VEVENT
BEGIN:VEVENT
DTSTART;TZID=UTC:20261029T193000
DTEND;TZID=UTC:20261029T220000
DTSTAMP:20260420T234805
CREATED:20260226T084812Z
LAST-MODIFIED:20260313T081837Z
UID:8406-1793302200-1793311200@bvhilversum.nl
SUMMARY:Debat gemeenteraadsverkiezingen
DESCRIPTION:
URL:https://bvhilversum.nl/evenement/debat-gemeenteraadsverkiezingen/
END:VEVENT
END:VCALENDAR