BEGIN:VCALENDAR
VERSION:2.0
PRODID:-//BVHilversum - ECPv6.15.20//NONSGML v1.0//EN
CALSCALE:GREGORIAN
METHOD:PUBLISH
X-ORIGINAL-URL:https://bvhilversum.nl
X-WR-CALDESC:Evenementen voor BVHilversum
REFRESH-INTERVAL;VALUE=DURATION:PT1H
X-Robots-Tag:noindex
X-PUBLISHED-TTL:PT1H
BEGIN:VTIMEZONE
TZID:UTC
BEGIN:STANDARD
TZOFFSETFROM:+0000
TZOFFSETTO:+0000
TZNAME:UTC
DTSTART:20240101T000000
END:STANDARD
END:VTIMEZONE
BEGIN:VEVENT
DTSTART;TZID=UTC:20251121T190000
DTEND;TZID=UTC:20251121T210000
DTSTAMP:20260420T220705
CREATED:20251027T093154Z
LAST-MODIFIED:20251027T103114Z
UID:8206-1763751600-1763758800@bvhilversum.nl
SUMMARY:En de winnaars zijn…
DESCRIPTION:En de winnaars zijn…\nDe verkiezing van de Hilversumse Onderneming van het Jaar 2025 is in volle gang. Heb je al gestemd op www.hilversumseondernemingvanhetjaar.nl? Het kan nog tot en met 5 november. \n  \nVrijdag 21 november\, de Dag van de Ondernemer\, maken we de winnaars bekend van de verkiezing Hilversumse Onderneming van het Jaar 2025. Dit gebeurt tijdens een feestelijke bijeenkomst in Heuvellaan Hilversum\, het voormalige MCO. \nJe bent hierbij van harte welkom en we hopen dat je erbij kan zijn. \nRobbert Jan Proos\, Hilversumse cabaretier\, verzorgt de presentatie van de avond. Uiteraard zorgen we voor een drankje na afloop en is voldoende tijd om na te praten. \n\nDatum:    Vrijdag 21 november\, 19.00 uur\nLocatie:  Heuvellaan Hilversum\, Heuvellaan 33\, 1217 JL Hilversum \n\nProgramma\n19.00 uur   |  Ontvangst met een feestelijk drankje\n19.15 uur   |  Aanvang programma door Robbert Jan Proos\n20.00 uur   |  Borrelen en napraten\n21.00 uur   |  Einde \n\nGoed om te weten:\n• Aanmelden voor de uitreiking kan tot 16 november\n• Ben je onverwacht verhinderd\, dan wordt het gewaardeerd dat je je even afmeldt.\n• De uitreiking is aansluitend op de Maatschappelijke Beursvloer. Op beursvloerhilversum.nl kun je je hiervoor nog aanmelden. \n\nBen jij erbij op 21 november in de Heuvellaan? Want dit wil je toch niet missen. \n  \nMet ondernemende groet\,\nhet team van BVHilversum \nAanmelden: \nLocatie: \n \nVoeg toe aan je agenda: \n\n\nToevoegen aan kalender \n  \n\nGoogle Calendar\niCalendar\nOutlook 365\nOutlook Live
URL:https://bvhilversum.nl/evenement/en-de-winnaars-zijn/
LOCATION:Heuvellaan Hilversum\, Heuvellaan 33\, Hilversum\, 1217 JL\, Netherlands
ATTACH;FMTTYPE=image/jpeg:https://bvhilversum.nl/wp-content/uploads/2025/10/Entree_Heuvellaan.jpg
END:VEVENT
END:VCALENDAR